BEGIN:VCALENDAR
VERSION:2.0
PRODID:-//Squarespace Inc/Squarespace 6//v6//EN
BEGIN:VEVENT
UID:5796f5f8440243061fe23a37@squarespace.com
DTSTAMP:20161028T091833Z
DTSTART:20160929T130000Z
DTEND:20160929T210000Z
SUMMARY:Still Waters
END:VEVENT
END:VCALENDAR
